BEGIN:VCALENDAR
VERSION:2.0
PRODID:Oceanside, CA Calendar Creator
METHOD:PUBLISH
BEGIN:VEVENT
DTSTAMP:20251211T104638
DTSTART:20251215T160000
DTEND:20251215T180000
SUMMARY:Harbor Beach Volleyball Courts- Grand Opening
DESCRIPTION:<div data-block="true" data-editor="3esug" data-offset-key="2eht0-0-0"><div data-offset-key="2eht0-0-0" _1mj"="">🏐 Grand Opening Alert! 🏐</div></div><div data-block="true" data-editor="3esug" data-offset-key="edatf-0-0"><div data-offset-key="edatf-0-0" _1mj"=""><br data-text="true"></div></div><div data-block="true" data-editor="3esug" data-offset-key="f3rki-0-0"><div data-offset-key="f3rki-0-0" _1mj"="">Join us for the ribbon cutting ceremony celebrating four brand-new volleyball courts at the Harbor Beach!</div></div><div data-block="true" data-editor="3esug" data-offset-key="8j9e-0-0"><div data-offset-key="8j9e-0-0" _1mj"=""><br data-text="true"></div></div><div data-block="true" data-editor="3esug" data-offset-key="87k3m-0-0"><div data-offset-key="87k3m-0-0" _1mj"="">📅 Monday, December 15th</div></div><div data-block="true" data-editor="3esug" data-offset-key="3eop2-0-0"><div data-offset-key="3eop2-0-0" _1mj"="">⏰ 4pm</div></div><div data-block="true" data-editor="3esug" data-offset-key="7jekn-0-0"><div data-offset-key="7jekn-0-0" _1mj"="">📍 Harbor Beach- 1370 N Pacific St, Oceanside, CA 92054 (next to the playground)</div></div><div data-block="true" data-editor="3esug" data-offset-key="au3kp-0-0"><div data-offset-key="au3kp-0-0" _1mj"=""><br data-text="true"></div></div><div data-block="true" data-editor="3esug" data-offset-key="brm5e-0-0"><div data-offset-key="brm5e-0-0" _1mj"="">We’re excited to welcome the Oceanside High School boys’ and girls’ volleyball teams as they help debut the new courts!</div></div><div data-block="true" data-editor="3esug" data-offset-key="d7d7v-0-0"><div data-offset-key="d7d7v-0-0" _1mj"=""><br data-text="true"></div></div><div data-block="true" data-editor="3esug" data-offset-key="77hj6-0-0"><div data-offset-key="77hj6-0-0" _1mj"="">These courts are open to the public, with nets up at all times. The adjustable net system makes it easy to raise or lower the nets for casual play or pick-up games.</div></div><div data-block="true" data-editor="3esug" data-offset-key="54uf3-0-0"><div data-offset-key="54uf3-0-0" _1mj"=""><br data-text="true"></div></div><div data-block="true" data-editor="3esug" data-offset-key="1roo6-0-0"><div data-offset-key="1roo6-0-0" _1mj"="">Come celebrate with us, enjoy the ceremony, and be among the first to try out the new courts! 🌊🏐</div></div>
X-ALT-DESC;FMTTYPE=text/html:<div data-block="true" data-editor="3esug" data-offset-key="2eht0-0-0"><div data-offset-key="2eht0-0-0" _1mj"="">🏐 Grand Opening Alert! 🏐</div></div><div data-block="true" data-editor="3esug" data-offset-key="edatf-0-0"><div data-offset-key="edatf-0-0" _1mj"=""><br data-text="true"></div></div><div data-block="true" data-editor="3esug" data-offset-key="f3rki-0-0"><div data-offset-key="f3rki-0-0" _1mj"="">Join us for the ribbon cutting ceremony celebrating four brand-new volleyball courts at the Harbor Beach!</div></div><div data-block="true" data-editor="3esug" data-offset-key="8j9e-0-0"><div data-offset-key="8j9e-0-0" _1mj"=""><br data-text="true"></div></div><div data-block="true" data-editor="3esug" data-offset-key="87k3m-0-0"><div data-offset-key="87k3m-0-0" _1mj"="">📅 Monday, December 15th</div></div><div data-block="true" data-editor="3esug" data-offset-key="3eop2-0-0"><div data-offset-key="3eop2-0-0" _1mj"="">⏰ 4pm</div></div><div data-block="true" data-editor="3esug" data-offset-key="7jekn-0-0"><div data-offset-key="7jekn-0-0" _1mj"="">📍 Harbor Beach- 1370 N Pacific St, Oceanside, CA 92054 (next to the playground)</div></div><div data-block="true" data-editor="3esug" data-offset-key="au3kp-0-0"><div data-offset-key="au3kp-0-0" _1mj"=""><br data-text="true"></div></div><div data-block="true" data-editor="3esug" data-offset-key="brm5e-0-0"><div data-offset-key="brm5e-0-0" _1mj"="">We’re excited to welcome the Oceanside High School boys’ and girls’ volleyball teams as they help debut the new courts!</div></div><div data-block="true" data-editor="3esug" data-offset-key="d7d7v-0-0"><div data-offset-key="d7d7v-0-0" _1mj"=""><br data-text="true"></div></div><div data-block="true" data-editor="3esug" data-offset-key="77hj6-0-0"><div data-offset-key="77hj6-0-0" _1mj"="">These courts are open to the public, with nets up at all times. The adjustable net system makes it easy to raise or lower the nets for casual play or pick-up games.</div></div><div data-block="true" data-editor="3esug" data-offset-key="54uf3-0-0"><div data-offset-key="54uf3-0-0" _1mj"=""><br data-text="true"></div></div><div data-block="true" data-editor="3esug" data-offset-key="1roo6-0-0"><div data-offset-key="1roo6-0-0" _1mj"="">Come celebrate with us, enjoy the ceremony, and be among the first to try out the new courts! 🌊🏐</div></div>
LOCATION:Harbor Beach & Playground\, 1370 N Pacific St Oceanside\, California 92054
CLASS:PUBLIC
END:VEVENT
END:VCALENDAR
